BEGIN:VCALENDAR
VERSION:2.0
PRODID:-//wp-events-plugin.com//7.2.3.1//EN
BEGIN:VEVENT
UID:79@aad5.org
DTSTART;TZID=America/Chicago:20220501T193000
DTEND;TZID=America/Chicago:20220531T203000
DTSTAMP:20220504T185358Z
URL:https://aad5.org/events/primary-purpose-group-speaker-meetings-may/
SUMMARY:Primary Purpose Group Speaker Meetings - May
DESCRIPTION:The Primary Purpose Group is hosting the following speaker meet
 ings every Wednesday during the month of May:\n\n 	May 4th: Jared M.\n 	Ma
 y 11th: Caleb F.\n 	May 18th: Joe F. (hour long)\n 	May 25th: Troy H.\n\np
 pg speaker meeting announcements May
LOCATION:Quincy Serenity Club\, 901 S. 8th\, Quincy\, Illinois\, 62301\, Un
 ited States
GEO:39.920839;-91.40300100000002
X-APPLE-STRUCTURED-LOCATION;VALUE=URI;X-ADDRESS=901 S. 8th\, Quincy\, Illin
 ois\, 62301\, United States;X-APPLE-RADIUS=100;X-TITLE=Quincy Serenity Clu
 b:geo:39.920839,-91.40300100000002
END:VEVENT
BEGIN:VTIMEZONE
TZID:America/Chicago
X-LIC-LOCATION:America/Chicago
BEGIN:DAYLIGHT
DTSTART:20220313T030000
TZOFFSETFROM:-0600
TZOFFSETTO:-0500
TZNAME:CDT
END:DAYLIGHT
END:VTIMEZONE
END:VCALENDAR