BEGIN:VCALENDAR
VERSION:2.0
PRODID:-//wp-events-plugin.com//7.2.3.1//EN
BEGIN:VEVENT
UID:110@aad5.org
DTSTART;TZID=America/Chicago:20230101T193000
DTEND;TZID=America/Chicago:20230131T203000
DTSTAMP:20230106T133531Z
URL:https://aad5.org/events/primary-purpose-group-meeting-announcements-fo
 r-january/
SUMMARY:Primary Purpose Group Meeting Announcements for January
DESCRIPTION:Primary Purpose Group Meeting Wednesday Night Meeting Announcem
 ents for January.  See link below for details...\n\nPPG Meeting Announcem
 ents January
LOCATION:Quincy Serenity Club\, 901 S. 8th\, Quincy\, Illinois\, 62301\, Un
 ited States
GEO:39.920839;-91.40300100000002
X-APPLE-STRUCTURED-LOCATION;VALUE=URI;X-ADDRESS=901 S. 8th\, Quincy\, Illin
 ois\, 62301\, United States;X-APPLE-RADIUS=100;X-TITLE=Quincy Serenity Clu
 b:geo:39.920839,-91.40300100000002
END:VEVENT
BEGIN:VTIMEZONE
TZID:America/Chicago
X-LIC-LOCATION:America/Chicago
BEGIN:STANDARD
DTSTART:20221106T010000
TZOFFSETFROM:-0500
TZOFFSETTO:-0600
TZNAME:CST
END:STANDARD
END:VTIMEZONE
END:VCALENDAR