BEGIN:VCALENDAR
VERSION:2.0
PRODID:-//wp-events-plugin.com//7.2.3.1//EN
BEGIN:VEVENT
UID:108@aad5.org
DTSTART;TZID=America/Chicago:20221231T173000
DTEND;TZID=America/Chicago:20230101T010000
DTSTAMP:20221207T120257Z
URL:https://aad5.org/events/new-year-new-hope/
SUMMARY:New Year\, New Hope
DESCRIPTION:Please join us to bring in the New Year of hope and sober livin
 g.\n\nSee flyer below for details\;\n\nAA New Years Eve Party Announcement
CATEGORIES:Special Event
LOCATION:Eagles Alps\, 3737 N. 5th St\, Quincy\, IL\, 62305\, United States
X-APPLE-STRUCTURED-LOCATION;VALUE=URI;X-ADDRESS=3737 N. 5th St\, Quincy\, I
 L\, 62305\, United States;X-APPLE-RADIUS=100;X-TITLE=Eagles Alps:geo:0,0
END:VEVENT
BEGIN:VTIMEZONE
TZID:America/Chicago
X-LIC-LOCATION:America/Chicago
BEGIN:STANDARD
DTSTART:20221106T010000
TZOFFSETFROM:-0500
TZOFFSETTO:-0600
TZNAME:CST
END:STANDARD
END:VTIMEZONE
END:VCALENDAR