BEGIN:VCALENDAR
VERSION:2.0
PRODID:-//wp-events-plugin.com//7.2.3.1//EN
BEGIN:VEVENT
UID:111@aad5.org
DTSTART;TZID=America/Chicago:20230120T180000
DTEND;TZID=America/Chicago:20230120T200000
DTSTAMP:20230106T141614Z
URL:https://aad5.org/events/let-us-begin-big-book-study-group-free-meal/
SUMMARY:Let Us Begin: Big Book Study Group - Free Meal
DESCRIPTION:The Let Us Begin: Big Book Study Group is hosting a free meal a
 t an upcoming meeting.  See details below...\n\nFREE MEALFlyer
LOCATION:Quincy Serenity Club\, 901 S. 8th\, Quincy\, Illinois\, 62301\, Un
 ited States
GEO:39.920839;-91.40300100000002
X-APPLE-STRUCTURED-LOCATION;VALUE=URI;X-ADDRESS=901 S. 8th\, Quincy\, Illin
 ois\, 62301\, United States;X-APPLE-RADIUS=100;X-TITLE=Quincy Serenity Clu
 b:geo:39.920839,-91.40300100000002
END:VEVENT
BEGIN:VTIMEZONE
TZID:America/Chicago
X-LIC-LOCATION:America/Chicago
BEGIN:STANDARD
DTSTART:20221106T010000
TZOFFSETFROM:-0500
TZOFFSETTO:-0600
TZNAME:CST
END:STANDARD
END:VTIMEZONE
END:VCALENDAR