BEGIN:VCALENDAR
VERSION:2.0
PRODID:-//wp-events-plugin.com//7.2.3.1//EN
BEGIN:VEVENT
UID:27@aad5.org
DTSTART:20150927T190000Z
DTEND:20150927T220000Z
DTSTAMP:20150920T153700Z
URL:https://aad5.org/events/higher-power-group-picnic/
SUMMARY:Higher Power Group Picnic
DESCRIPTION:Come celebrate 25 + years of conscious and sometimes unconsciou
 s\, contact with God as we understand Him/Her with the Higher Power Group!
  Click here for the flyer and more details!\n\nAll American Park Shelter
  by the river near the Quinsippi Island Bridge.
CATEGORIES:District 5 Events
LOCATION:All American Park Shelter\, CNTY RD 523 E &amp\; Cedar\, Quincy\, 
 IL\, 62301\, United States
GEO:39.9460853;-91.41545550000001
X-APPLE-STRUCTURED-LOCATION;VALUE=URI;X-ADDRESS=CNTY RD 523 E & Cedar\, Qui
 ncy\, IL\, 62301\, United States;X-APPLE-RADIUS=100;X-TITLE=All American P
 ark Shelter:geo:39.9460853,-91.41545550000001
END:VEVENT
END:VCALENDAR