BEGIN:VCALENDAR
VERSION:2.0
PRODID:-//wp-events-plugin.com//7.2.3.1//EN
BEGIN:VEVENT
UID:80@aad5.org
DTSTART;TZID=America/Chicago:20220706T173000
DTEND;TZID=America/Chicago:20220706T190000
DTSTAMP:20220620T154837Z
URL:https://aad5.org/events/grapevine-speaker-meeting-2/
SUMMARY:Grapevine Speaker Meeting
DESCRIPTION:The Grapevine home group invites you to join us for appetizers 
 and desserts.  See details below\;\n\nGrapevine Speaker Meeting - 7-6-22
CATEGORIES:Special Event
LOCATION:Unitarian Church\, 16th and Hampshire\, Quincy\, Illinois\, 62301\
 , United States
GEO:39.9331175;-91.39037300000001
X-APPLE-STRUCTURED-LOCATION;VALUE=URI;X-ADDRESS=16th and Hampshire\, Quincy
 \, Illinois\, 62301\, United States;X-APPLE-RADIUS=100;X-TITLE=Unitarian C
 hurch:geo:39.9331175,-91.39037300000001
END:VEVENT
BEGIN:VTIMEZONE
TZID:America/Chicago
X-LIC-LOCATION:America/Chicago
BEGIN:DAYLIGHT
DTSTART:20220313T030000
TZOFFSETFROM:-0600
TZOFFSETTO:-0500
TZNAME:CDT
END:DAYLIGHT
END:VTIMEZONE
END:VCALENDAR