BEGIN:VCALENDAR
VERSION:2.0
PRODID:-//wp-events-plugin.com//7.2.3.1//EN
BEGIN:VEVENT
UID:58@aad5.org
DTSTART:20170709T143000Z
DTEND:20170709T190000Z
DTSTAMP:20170701T210353Z
URL:https://aad5.org/events/general-service-representative-training/
SUMMARY:General Service Representative Training
DESCRIPTION:ALL COSTS COVERED BY DISTRICT 19.  BUT SEATS NEED TO BE RESERVE
 D\nCALL TINA D/ QUINCY 847-812-8976
LOCATION:Erin's Pavilion\,  Southwind Park\, 4965 South Second Street\, Spr
 ingfield\, IL\, United States
GEO:39.7291233;-89.6556129
X-APPLE-STRUCTURED-LOCATION;VALUE=URI;X-ADDRESS=4965 South Second Street\, 
 Springfield\, IL\, United States;X-APPLE-RADIUS=100;X-TITLE=Erin's Pavilio
 n\,  Southwind Park:geo:39.7291233,-89.6556129
END:VEVENT
END:VCALENDAR