BEGIN:VCALENDAR
VERSION:2.0
PRODID:-//wp-events-plugin.com//7.2.3.1//EN
BEGIN:VEVENT
UID:126@aad5.org
DTSTART;TZID=America/Chicago:20230226T130000
DTEND;TZID=America/Chicago:20230226T180000
DTSTAMP:20230219T183014Z
URL:https://aad5.org/events/chili-cook-off/
SUMMARY:CHILI COOK-OFF
DESCRIPTION:2023 Chili Cook-Off\n\nSee flyer below for details...\n\nAA Chi
 li Cook-off
LOCATION:Central Baptist Church\, 321 N 7th St\, Quincy\, IL\, 62301\, Unit
 ed States
GEO:39.9353549;-91.4050722
X-APPLE-STRUCTURED-LOCATION;VALUE=URI;X-ADDRESS=321 N 7th St\, Quincy\, IL\
 , 62301\, United States;X-APPLE-RADIUS=100;X-TITLE=Central Baptist Church:
 geo:39.9353549,-91.4050722
END:VEVENT
BEGIN:VTIMEZONE
TZID:America/Chicago
X-LIC-LOCATION:America/Chicago
BEGIN:STANDARD
DTSTART:20221106T010000
TZOFFSETFROM:-0500
TZOFFSETTO:-0600
TZNAME:CST
END:STANDARD
END:VTIMEZONE
END:VCALENDAR