BEGIN:VCALENDAR
VERSION:2.0
PRODID:-//wp-events-plugin.com//7.2.3.1//EN
BEGIN:VEVENT
UID:72@aad5.org
DTSTART;VALUE=DATE:20200424
DTEND;VALUE=DATE:20200426
DTSTAMP:20200306T031354Z
URL:https://aad5.org/events/big-book-workshop/
SUMMARY:Big Book Workshop
DESCRIPTION:Big Book Workshop\nSpeakers: \nMike and Ericka M from Cedar Rap
 ids\, IA\n\nDate/Time:\nFriday\, April 24th:\nRegistration 5 PM\nWorkshop:
  6 PM - 9 PM (Dessert to follow)\n\nSaturday April 25th:\nRegistration: 8 
 AM\nWorkshop: 9 AM - 8 PM\n\nLocation: \nCentral Baptist Church\n321 North
  7th St.\nQuincy\, IL 62301\n\n$10 includes Desserts\, Meals and Coffee\n\
 nClick here for the flyer.
LOCATION:Central Baptist Church\, 321 North 7th\, Quincy\, IL\, 62301\, Uni
 ted States
X-APPLE-STRUCTURED-LOCATION;VALUE=URI;X-ADDRESS=321 North 7th\, Quincy\, IL
 \, 62301\, United States;X-APPLE-RADIUS=100;X-TITLE=Central Baptist Church
 :geo:0,0
END:VEVENT
END:VCALENDAR