BEGIN:VCALENDAR
VERSION:2.0
PRODID:-//wp-events-plugin.com//7.2.3.1//EN
BEGIN:VEVENT
UID:105@aad5.org
DTSTART;TZID=America/Chicago:20221101T193000
DTEND;TZID=America/Chicago:20221130T203000
DTSTAMP:20221106T211144Z
URL:https://aad5.org/events/aa-primary-purpose-group-speaker-meetings-nove
 mber/
SUMMARY:AA PRIMARY PURPOSE GROUP SPEAKER MEETINGS - NOVEMBER
DESCRIPTION:For a list of dates and speakers\, click the link below\;\n\nPP
 G November Speakers
LOCATION:Quincy Serenity Club\, 901 S. 8th\, Quincy\, Illinois\, 62301\, Un
 ited States
GEO:39.920839;-91.40300100000002
X-APPLE-STRUCTURED-LOCATION;VALUE=URI;X-ADDRESS=901 S. 8th\, Quincy\, Illin
 ois\, 62301\, United States;X-APPLE-RADIUS=100;X-TITLE=Quincy Serenity Clu
 b:geo:39.920839,-91.40300100000002
END:VEVENT
BEGIN:VTIMEZONE
TZID:America/Chicago
X-LIC-LOCATION:America/Chicago
BEGIN:DAYLIGHT
DTSTART:20220313T030000
TZOFFSETFROM:-0600
TZOFFSETTO:-0500
TZNAME:CDT
END:DAYLIGHT
BEGIN:STANDARD
DTSTART:20221106T010000
TZOFFSETFROM:-0500
TZOFFSETTO:-0600
TZNAME:CST
END:STANDARD
END:VTIMEZONE
END:VCALENDAR