BEGIN:VCALENDAR
VERSION:2.0
PRODID:-//wp-events-plugin.com//7.2.3.1//EN
BEGIN:VEVENT
UID:132@aad5.org
DTSTART;TZID=America/Chicago:20230806T123000
DTEND;TZID=America/Chicago:20230806T123000
DTSTAMP:20230611T150541Z
URL:https://aad5.org/events/aa-district-5-aa-in-the-park-2/
SUMMARY:AA District 5 "AA In The Park"
DESCRIPTION:AA In The Park\, see attachment for additional details...\n\nAA
  In The Park August 2023
LOCATION:Lincoln Park\, 1231 Bonansinga Dr\, Quincy\, Illinois\, 62305\, Un
 ited States
X-APPLE-STRUCTURED-LOCATION;VALUE=URI;X-ADDRESS=1231 Bonansinga Dr\, Quincy
 \, Illinois\, 62305\, United States;X-APPLE-RADIUS=100;X-TITLE=Lincoln Par
 k:geo:0,0
END:VEVENT
BEGIN:VTIMEZONE
TZID:America/Chicago
X-LIC-LOCATION:America/Chicago
BEGIN:DAYLIGHT
DTSTART:20230312T030000
TZOFFSETFROM:-0600
TZOFFSETTO:-0500
TZNAME:CDT
END:DAYLIGHT
END:VTIMEZONE
END:VCALENDAR