BEGIN:VCALENDAR
VERSION:2.0
PRODID:-//wp-events-plugin.com//7.2.3.1//EN
BEGIN:VEVENT
UID:20@aad5.org
DTSTART:20141208T000000Z
DTEND:20141208T023000Z
DTSTAMP:20141111T043857Z
URL:https://aad5.org/events/3rd-step-group-carry-inspeaker-meeting/
SUMMARY:3rd Step Group Carry-in/Speaker Meeting
DESCRIPTION:Looking for something to do on December 7th? 3rd Step Group is 
 hosting Speaker/Carry-in meeting with an Italian theme. Bring a covered di
 sh to share. Click here for more details!
CATEGORIES:District 5 Events
LOCATION:Vermont Street Methodist Church\, 818 Vermont St. \, Quincy\, IL\,
  62301\, United States
GEO:39.93415900000001;-91.40285699999998
X-APPLE-STRUCTURED-LOCATION;VALUE=URI;X-ADDRESS=818 Vermont St. \, Quincy\,
  IL\, 62301\, United States;X-APPLE-RADIUS=100;X-TITLE=Vermont Street Meth
 odist Church:geo:39.93415900000001,-91.40285699999998
END:VEVENT
END:VCALENDAR